BEGIN:VCALENDAR
VERSION:2.0
PRODID:-//Bureau of Justice Assistance//NONSGML Event Calendar//EN
BEGIN:VEVENT
UID:fd542ad3-b62e-4cf6-8eed-63c65d552b84
DTSTART;TZID=UTC:20220510T190000
SEQUENCE:0
TRANSP:OPAQUE
DTEND;TZID=UTC:20220510T203000
LOCATION:https://www.bja.ojp.gov/events/fy22-ojp-community-based-violence-i
 ntervention-prevention-initiative-cvipi-nij-evaluation
SUMMARY:FY22 OJP Community Based Violence Intervention & Prevention Initiat
 ive (CVIPI) & NIJ Evaluation of CVIPI Projects
CLASS:PUBLIC
DESCRIPTION:Learn more about this event: https://www.bja.ojp.gov/events/fy2
 2-ojp-community-based-violence-intervention-prevention-initiative-cvipi-ni
 j-evaluation
DTSTAMP:20260422T214908Z
END:VEVENT
END:VCALENDAR