BEGIN:VCALENDAR
VERSION:2.0
PRODID:-//Bureau of Justice Assistance//NONSGML Event Calendar//EN
BEGIN:VEVENT
UID:0c7913e6-af47-42f3-9eaf-b44aeea56d24
DTSTART;TZID=UTC:20220426T190000
SEQUENCE:0
TRANSP:OPAQUE
DTEND;TZID=UTC:20220426T201500
LOCATION:https://www.bja.ojp.gov/events/raising-bar-juvenile-reentry-what-y
 oung-people-say-they-need
SUMMARY:Raising the Bar on Juvenile Reentry: What Young People Say They Nee
 d
CLASS:PUBLIC
DESCRIPTION:Learn more about this event: https://www.bja.ojp.gov/events/rai
 sing-bar-juvenile-reentry-what-young-people-say-they-need
DTSTAMP:20260425T104119Z
END:VEVENT
END:VCALENDAR