BEGIN:VCALENDAR
VERSION:2.0
PRODID:-//Bureau of Justice Assistance//NONSGML Event Calendar//EN
BEGIN:VEVENT
UID:138dd53a-237d-4b3d-ae61-e9dfc9cf20b0
DTSTART;TZID=UTC:20220519T163000
SEQUENCE:0
TRANSP:OPAQUE
DTEND;TZID=UTC:20220519T180000
LOCATION:https://www.bja.ojp.gov/events/responding-2022-solicitation-justic
 e-and-mental-health-collaboration-program
SUMMARY:Responding to the 2022 Solicitation for the Justice and Mental Heal
 th Collaboration Program
CLASS:PUBLIC
DESCRIPTION:Learn more about this event: https://www.bja.ojp.gov/events/res
 ponding-2022-solicitation-justice-and-mental-health-collaboration-program
DTSTAMP:20260423T021608Z
END:VEVENT
END:VCALENDAR