BEGIN:VCALENDAR
VERSION:2.0
PRODID:-//Bureau of Justice Assistance//NONSGML Event Calendar//EN
BEGIN:VEVENT
UID:14a659f4-da00-4b19-a793-7942a26b63b1
DTSTART;TZID=UTC:20220518T180000
SEQUENCE:0
TRANSP:OPAQUE
DTEND;TZID=UTC:20220518T193000
LOCATION:https://www.bja.ojp.gov/events/responding-2022-solicitation-connec
 t-and-protect-law-enforcement-behavioral-health-responses
SUMMARY:Responding to the 2022 Solicitation for Connect and Protect Law Enf
 orcement Behavioral Health Responses
CLASS:PUBLIC
DESCRIPTION:Learn more about this event: https://www.bja.ojp.gov/events/res
 ponding-2022-solicitation-connect-and-protect-law-enforcement-behavioral-h
 ealth-responses
DTSTAMP:20260423T021608Z
END:VEVENT
END:VCALENDAR