BEGIN:VCALENDAR
VERSION:2.0
PRODID:-//Bureau of Justice Assistance//NONSGML Event Calendar//EN
BEGIN:VEVENT
UID:39d8c0e6-7754-4060-9206-4f2d827efcf1
DTSTART;TZID=UTC:20220608T170000
SEQUENCE:0
TRANSP:OPAQUE
DTEND;TZID=UTC:20220608T183000
LOCATION:https://www.bja.ojp.gov/events/adopting-gender-responsive-approach
 -women-justice-system-resource-guide
SUMMARY:Adopting a Gender-Responsive Approach for Women in the Justice Syst
 em: A Resource Guide
CLASS:PUBLIC
DESCRIPTION:Learn more about this event: https://www.bja.ojp.gov/events/ado
 pting-gender-responsive-approach-women-justice-system-resource-guide
DTSTAMP:20260423T003520Z
END:VEVENT
END:VCALENDAR