BEGIN:VCALENDAR
VERSION:2.0
PRODID:-//Bureau of Justice Assistance//NONSGML Event Calendar//EN
BEGIN:VEVENT
UID:e824e8ab-dc36-4904-8846-70634c696cb6
DTSTART;TZID=UTC:20220614T180000
SEQUENCE:0
TRANSP:OPAQUE
DTEND;TZID=UTC:20220614T184500
LOCATION:https://www.bja.ojp.gov/events/fy-2022-field-initiated-encouraging
 -innovation
SUMMARY:FY 2022 Field Initiated: Encouraging Innovation
CLASS:PUBLIC
DESCRIPTION:Learn more about this event: https://www.bja.ojp.gov/events/fy-
 2022-field-initiated-encouraging-innovation
DTSTAMP:20260420T052539Z
END:VEVENT
END:VCALENDAR