BEGIN:VCALENDAR
VERSION:2.0
PRODID:-//Bureau of Justice Assistance//NONSGML Event Calendar//EN
BEGIN:VEVENT
UID:93a3910c-5073-408b-909f-b867807dac2a
DTSTART;TZID=UTC:20220608T150000
SEQUENCE:0
TRANSP:OPAQUE
DTEND;TZID=UTC:20220608T160000
LOCATION:https://www.bja.ojp.gov/events/fy-2022-bja-visiting-fellows-progra
 m
SUMMARY:FY 2022 BJA Visiting Fellows Program
CLASS:PUBLIC
DESCRIPTION:Learn more about this event: https://www.bja.ojp.gov/events/fy-
 2022-bja-visiting-fellows-program
DTSTAMP:20260420T070129Z
END:VEVENT
END:VCALENDAR