BEGIN:VCALENDAR
VERSION:2.0
PRODID:-//Bureau of Justice Assistance//NONSGML Event Calendar//EN
BEGIN:VEVENT
UID:39055a9e-e3e6-489c-88bf-20854eafac2f
DTSTART;TZID=UTC:20220616T190000
SEQUENCE:0
TRANSP:OPAQUE
DTEND;TZID=UTC:20220616T200000
LOCATION:https://www.bja.ojp.gov/events/covid-19-correctional-facilities-up
 dates-cdc-guidance-and-available-funding-detection-and
SUMMARY:COVID-19 in Correctional Facilities: Updates to CDC Guidance and Av
 ailable Funding for Detection and Mitigation Strategies
CLASS:PUBLIC
DESCRIPTION:Learn more about this event: https://www.bja.ojp.gov/events/cov
 id-19-correctional-facilities-updates-cdc-guidance-and-available-funding-d
 etection-and
DTSTAMP:20260422T212333Z
END:VEVENT
END:VCALENDAR