BEGIN:VCALENDAR
VERSION:2.0
PRODID:-//Bureau of Justice Assistance//NONSGML Event Calendar//EN
BEGIN:VEVENT
UID:b0a0aea2-0fac-4b89-aec2-d4ea981fcb1a
DTSTART;VALUE=DATE:20220804
SEQUENCE:0
TRANSP:OPAQUE
DTEND;VALUE=DATE:20220808
LOCATION:https://www.bja.ojp.gov/events/american-correctional-association-1
 52nd-congress-correction
SUMMARY:American Correctional Association 152nd Congress of Correction
CLASS:PUBLIC
DESCRIPTION:Learn more about this event: https://www.bja.ojp.gov/events/ame
 rican-correctional-association-152nd-congress-correction
X-MICROSOFT-CDO-ALLDAYEVENT:TRUE
DTSTAMP:20260425T121301Z
END:VEVENT
END:VCALENDAR