BEGIN:VCALENDAR
VERSION:2.0
PRODID:-//Bureau of Justice Assistance//NONSGML Event Calendar//EN
BEGIN:VEVENT
UID:e5a0bd60-33e8-427c-a81d-71f69622616d
DTSTART;TZID=UTC:20220712T190000
SEQUENCE:0
TRANSP:OPAQUE
DTEND;TZID=UTC:20220712T200000
LOCATION:https://www.bja.ojp.gov/events/guidelines-managing-substance-withd
 rawal-jails-status-update
SUMMARY:Guidelines for Managing Substance Withdrawal in Jails: Status Updat
 e
CLASS:PUBLIC
DESCRIPTION:Learn more about this event: https://www.bja.ojp.gov/events/gui
 delines-managing-substance-withdrawal-jails-status-update
DTSTAMP:20260422T214915Z
END:VEVENT
END:VCALENDAR