BEGIN:VCALENDAR
VERSION:2.0
PRODID:-//Bureau of Justice Assistance//NONSGML Event Calendar//EN
BEGIN:VEVENT
UID:a5a7e8da-98e5-40a3-9e28-995b8d09e243
DTSTART;TZID=UTC:20220721T180000
SEQUENCE:0
TRANSP:OPAQUE
DTEND;TZID=UTC:20220721T193000
LOCATION:https://www.bja.ojp.gov/events/key-development-concepts-and-housin
 g-models-justice-system-leaders
SUMMARY:Key Development Concepts and Housing Models for Justice System Lead
 ers
CLASS:PUBLIC
DESCRIPTION:Learn more about this event: https://www.bja.ojp.gov/events/key
 -development-concepts-and-housing-models-justice-system-leaders
DTSTAMP:20260422T194038Z
END:VEVENT
END:VCALENDAR