BEGIN:VCALENDAR
VERSION:2.0
PRODID:-//Bureau of Justice Assistance//NONSGML Event Calendar//EN
BEGIN:VEVENT
UID:cbe062ad-8944-44d9-8f25-f01f54f49d0c
DTSTART;TZID=UTC:20220801T180000
SEQUENCE:0
TRANSP:OPAQUE
DTEND;TZID=UTC:20220801T184500
LOCATION:https://www.bja.ojp.gov/events/fy-2022-missing-and-unidentified-hu
 man-remains-program-webinar
SUMMARY:FY 2022 Missing and Unidentified Human Remains Program Webinar
CLASS:PUBLIC
DESCRIPTION:Learn more about this event: https://www.bja.ojp.gov/events/fy-
 2022-missing-and-unidentified-human-remains-program-webinar
DTSTAMP:20260420T054956Z
END:VEVENT
END:VCALENDAR