BEGIN:VCALENDAR
VERSION:2.0
PRODID:-//Bureau of Justice Assistance//NONSGML Event Calendar//EN
BEGIN:VEVENT
UID:f7b863c6-46c7-4826-b0f3-f89febd3a9b6
DTSTART;TZID=UTC:20220817T180000
SEQUENCE:0
TRANSP:OPAQUE
DTEND;TZID=UTC:20220817T190000
LOCATION:https://www.bja.ojp.gov/events/implementing-motivational-interview
 ing-rsat-programs
SUMMARY:Implementing Motivational Interviewing into RSAT Programs
CLASS:PUBLIC
DESCRIPTION:Learn more about this event: https://www.bja.ojp.gov/events/imp
 lementing-motivational-interviewing-rsat-programs
DTSTAMP:20260422T214915Z
END:VEVENT
END:VCALENDAR