BEGIN:VCALENDAR
VERSION:2.0
PRODID:-//Bureau of Justice Assistance//NONSGML Event Calendar//EN
BEGIN:VEVENT
UID:5fbb622f-44c5-44da-9c1e-1226ea199b9e
DTSTART;VALUE=DATE:20220914
SEQUENCE:0
TRANSP:OPAQUE
DTEND;VALUE=DATE:20230112
LOCATION:https://www.bja.ojp.gov/events/implementing-community-based-violen
 ce-intervention-strategies
SUMMARY:Implementing Community Based Violence Intervention Strategies
CLASS:PUBLIC
DESCRIPTION:Learn more about this event: https://www.bja.ojp.gov/events/imp
 lementing-community-based-violence-intervention-strategies
X-MICROSOFT-CDO-ALLDAYEVENT:TRUE
DTSTAMP:20260422T225841Z
END:VEVENT
END:VCALENDAR