BEGIN:VCALENDAR
VERSION:2.0
PRODID:-//Bureau of Justice Assistance//NONSGML Event Calendar//EN
BEGIN:VEVENT
UID:cb349925-d99e-47f7-bb80-03f061c09fe6
DTSTART;TZID=UTC:20220912T170000
SEQUENCE:0
TRANSP:OPAQUE
DTEND;TZID=UTC:20220912T180000
LOCATION:https://www.bja.ojp.gov/events/lockdown-drills-panel
SUMMARY:Lockdown Drills Panel
CLASS:PUBLIC
DESCRIPTION:Learn more about this event: https://www.bja.ojp.gov/events/loc
 kdown-drills-panel
DTSTAMP:20260422T210738Z
END:VEVENT
END:VCALENDAR