BEGIN:VCALENDAR
VERSION:2.0
PRODID:-//Bureau of Justice Assistance//NONSGML Event Calendar//EN
BEGIN:VEVENT
UID:763607b0-ec6c-4bb6-8048-7d033d0c16d7
DTSTART;TZID=UTC:20220922T180000
SEQUENCE:0
TRANSP:OPAQUE
DTEND;TZID=UTC:20220922T193000
LOCATION:https://www.bja.ojp.gov/events/community-level-steps-cross-sector-
 collaboration-increase-housing-opportunity
SUMMARY:Community-Level Steps for Cross-Sector Collaboration to Increase Ho
 using Opportunity
CLASS:PUBLIC
DESCRIPTION:Learn more about this event: https://www.bja.ojp.gov/events/com
 munity-level-steps-cross-sector-collaboration-increase-housing-opportunity
DTSTAMP:20260422T193924Z
END:VEVENT
END:VCALENDAR