BEGIN:VCALENDAR
VERSION:2.0
PRODID:-//Bureau of Justice Assistance//NONSGML Event Calendar//EN
BEGIN:VEVENT
UID:23b56fae-f45a-48fd-841b-1e2ff8822c48
DTSTART;TZID=UTC:20221013T180000
SEQUENCE:0
TRANSP:OPAQUE
DTEND;TZID=UTC:20221013T190000
LOCATION:https://www.bja.ojp.gov/events/justgrants-virtual-qa-award-accepta
 nce-49
SUMMARY:JustGrants Virtual Q&A: Award Acceptance
CLASS:PUBLIC
DESCRIPTION:Learn more about this event: https://www.bja.ojp.gov/events/jus
 tgrants-virtual-qa-award-acceptance-49
DTSTAMP:20260420T070123Z
END:VEVENT
END:VCALENDAR