BEGIN:VCALENDAR
VERSION:2.0
PRODID:-//Bureau of Justice Assistance//NONSGML Event Calendar//EN
BEGIN:VEVENT
UID:12773e36-6953-48dd-9367-685196199de9
DTSTART;TZID=UTC:20221025T160000
SEQUENCE:0
TRANSP:OPAQUE
DTEND;TZID=UTC:20221025T170000
LOCATION:https://www.bja.ojp.gov/events/law-enforcement-technical-implement
 ation-guide
SUMMARY:Law Enforcement Technical Implementation Guide
CLASS:PUBLIC
DESCRIPTION:Learn more about this event: https://www.bja.ojp.gov/events/law
 -enforcement-technical-implementation-guide
DTSTAMP:20260420T052604Z
END:VEVENT
END:VCALENDAR