BEGIN:VCALENDAR
VERSION:2.0
PRODID:-//Bureau of Justice Assistance//NONSGML Event Calendar//EN
BEGIN:VEVENT
UID:e532e9ea-a2b7-4b62-9a83-f9fdc6a82064
DTSTART;TZID=UTC:20221026T193000
SEQUENCE:0
TRANSP:OPAQUE
DTEND;TZID=UTC:20221026T203000
LOCATION:https://www.bja.ojp.gov/events/prosecution-technical-implementatio
 n-guide
SUMMARY:Prosecution Technical Implementation Guide
CLASS:PUBLIC
DESCRIPTION:Learn more about this event: https://www.bja.ojp.gov/events/pro
 secution-technical-implementation-guide
DTSTAMP:20260420T052604Z
END:VEVENT
END:VCALENDAR