BEGIN:VCALENDAR
VERSION:2.0
PRODID:-//Bureau of Justice Assistance//NONSGML Event Calendar//EN
BEGIN:VEVENT
UID:8f7ffc53-ddd6-43e9-860c-c62d0147edcd
DTSTART;TZID=UTC:20221110T150000
SEQUENCE:0
TRANSP:OPAQUE
DTEND;TZID=UTC:20221110T163000
LOCATION:https://www.bja.ojp.gov/events/valor-casualty-care-virtual-trainin
 g
SUMMARY:VALOR Casualty Care Virtual Training
CLASS:PUBLIC
DESCRIPTION:Learn more about this event: https://www.bja.ojp.gov/events/val
 or-casualty-care-virtual-training
DTSTAMP:20260423T004301Z
END:VEVENT
END:VCALENDAR