BEGIN:VCALENDAR
VERSION:2.0
PRODID:-//Bureau of Justice Assistance//NONSGML Event Calendar//EN
BEGIN:VEVENT
UID:5c1ce3cd-4d34-410d-9191-22eeacdebc7c
DTSTART;TZID=UTC:20221110T190000
SEQUENCE:0
TRANSP:OPAQUE
DTEND;TZID=UTC:20221110T200000
LOCATION:https://www.bja.ojp.gov/events/rural-violent-crime-reduction-initi
 ative-solicitation-webinar
SUMMARY:Rural Violent Crime Reduction Initiative Solicitation Webinar
CLASS:PUBLIC
DESCRIPTION:Learn more about this event: https://www.bja.ojp.gov/events/rur
 al-violent-crime-reduction-initiative-solicitation-webinar
DTSTAMP:20260422T164130Z
END:VEVENT
END:VCALENDAR