BEGIN:VCALENDAR
VERSION:2.0
PRODID:-//Bureau of Justice Assistance//NONSGML Event Calendar//EN
BEGIN:VEVENT
UID:483584ea-c1fa-46ca-93c3-051037cdb73a
DTSTART;TZID=UTC:20221220T160000
SEQUENCE:0
TRANSP:OPAQUE
DTEND;TZID=UTC:20221220T164500
LOCATION:https://www.bja.ojp.gov/events/valor-thrive-episode-13-tighten-you
 r-tourniquet-training
SUMMARY:VALOR Thrive: Episode 13―Tighten Up Your Tourniquet Training
CLASS:PUBLIC
DESCRIPTION:Learn more about this event: https://www.bja.ojp.gov/events/val
 or-thrive-episode-13-tighten-your-tourniquet-training
DTSTAMP:20260422T231434Z
END:VEVENT
END:VCALENDAR