BEGIN:VCALENDAR
VERSION:2.0
PRODID:-//Bureau of Justice Assistance//NONSGML Event Calendar//EN
BEGIN:VEVENT
UID:878815f6-7dd1-4930-aefa-dc8f6a7a7188
DTSTART;TZID=UTC:20230124T150000
SEQUENCE:0
TRANSP:OPAQUE
DTEND;TZID=UTC:20230124T200000
LOCATION:https://www.bja.ojp.gov/events/valor-mid-level-leadership-matchboo
 k
SUMMARY:VALOR Mid-Level Leadership Matchbook
CLASS:PUBLIC
DESCRIPTION:Learn more about this event: https://www.bja.ojp.gov/events/val
 or-mid-level-leadership-matchbook
DTSTAMP:20260423T004302Z
END:VEVENT
END:VCALENDAR