BEGIN:VCALENDAR
VERSION:2.0
PRODID:-//Bureau of Justice Assistance//NONSGML Event Calendar//EN
BEGIN:VEVENT
UID:df5da170-ba6e-4b40-a092-214f997acab0
DTSTART;TZID=UTC:20230127T190000
SEQUENCE:0
TRANSP:OPAQUE
DTEND;TZID=UTC:20230127T200000
LOCATION:https://www.bja.ojp.gov/events/criminal-justice-mental-health-lear
 ning-sites-qa-2
SUMMARY:Criminal Justice-Mental Health Learning Sites Q&A #2
CLASS:PUBLIC
DESCRIPTION:Learn more about this event: https://www.bja.ojp.gov/events/cri
 minal-justice-mental-health-learning-sites-qa-2
DTSTAMP:20260425T135027Z
END:VEVENT
END:VCALENDAR