BEGIN:VCALENDAR
VERSION:2.0
PRODID:-//Bureau of Justice Assistance//NONSGML Event Calendar//EN
BEGIN:VEVENT
UID:cacca7de-bb90-4f86-966f-30402082a76b
DTSTART;TZID=UTC:20230118T180000
SEQUENCE:0
TRANSP:OPAQUE
DTEND;TZID=UTC:20230118T190000
LOCATION:https://www.bja.ojp.gov/events/criminal-justice-mental-health-lear
 ning-sites-qa-1
SUMMARY:Criminal Justice-Mental Health Learning Sites Q&A #1
CLASS:PUBLIC
DESCRIPTION:Learn more about this event: https://www.bja.ojp.gov/events/cri
 minal-justice-mental-health-learning-sites-qa-1
DTSTAMP:20260425T135027Z
END:VEVENT
END:VCALENDAR