BEGIN:VCALENDAR
VERSION:2.0
PRODID:-//Bureau of Justice Assistance//NONSGML Event Calendar//EN
BEGIN:VEVENT
UID:b273674f-dd99-4fb8-b9fb-4f741d413011
DTSTART;TZID=UTC:20230307T193000
SEQUENCE:0
TRANSP:OPAQUE
DTEND;TZID=UTC:20230307T210000
LOCATION:https://www.bja.ojp.gov/events/new-opportunities-implement-nationa
 l-guidelines-post-conviction-risk-and-needs-assessment
SUMMARY:New Opportunities to Implement the National Guidelines for Post-Con
 viction Risk and Needs Assessment
CLASS:PUBLIC
DESCRIPTION:Learn more about this event: https://www.bja.ojp.gov/events/new
 -opportunities-implement-national-guidelines-post-conviction-risk-and-need
 s-assessment
DTSTAMP:20260422T193758Z
END:VEVENT
END:VCALENDAR