BEGIN:VCALENDAR
VERSION:2.0
PRODID:-//Bureau of Justice Assistance//NONSGML Event Calendar//EN
BEGIN:VEVENT
UID:8e8026ba-1b70-443a-8bbb-d8d683799b01
DTSTART;TZID=UTC:20230313T170000
SEQUENCE:0
TRANSP:OPAQUE
DTEND;TZID=UTC:20230313T183000
LOCATION:https://www.bja.ojp.gov/events/justgrants-virtual-qa-post-award-ma
 nagement-71
SUMMARY:JustGrants Virtual Q&A: Post-Award Management
CLASS:PUBLIC
DESCRIPTION:Learn more about this event: https://www.bja.ojp.gov/events/jus
 tgrants-virtual-qa-post-award-management-71
DTSTAMP:20260422T212424Z
END:VEVENT
END:VCALENDAR