BEGIN:VCALENDAR
VERSION:2.0
PRODID:-//Bureau of Justice Assistance//NONSGML Event Calendar//EN
BEGIN:VEVENT
UID:a27369da-13b0-4d2a-9379-5ff17635bf88
DTSTART;VALUE=DATE:20230314
SEQUENCE:0
TRANSP:OPAQUE
DTEND;VALUE=DATE:20230316
LOCATION:https://www.bja.ojp.gov/events/survive-thrive
SUMMARY:Survive & Thrive
CLASS:PUBLIC
DESCRIPTION:Learn more about this event: https://www.bja.ojp.gov/events/sur
 vive-thrive
X-MICROSOFT-CDO-ALLDAYEVENT:TRUE
DTSTAMP:20260422T224321Z
END:VEVENT
END:VCALENDAR