BEGIN:VCALENDAR
VERSION:2.0
PRODID:-//Bureau of Justice Assistance//NONSGML Event Calendar//EN
BEGIN:VEVENT
UID:449fac59-d4c1-43f4-ba8b-967c86f4f73b
DTSTART;TZID=UTC:20230323T170000
SEQUENCE:0
TRANSP:OPAQUE
DTEND;TZID=UTC:20230323T180000
LOCATION:https://www.bja.ojp.gov/events/valor-benefits-yoga-law-enforcement
 -virtual-course
SUMMARY:VALOR The Benefits of Yoga for Law Enforcement Virtual Course
CLASS:PUBLIC
DESCRIPTION:Learn more about this event: https://www.bja.ojp.gov/events/val
 or-benefits-yoga-law-enforcement-virtual-course
DTSTAMP:20260422T224407Z
END:VEVENT
END:VCALENDAR