BEGIN:VCALENDAR
VERSION:2.0
PRODID:-//Bureau of Justice Assistance//NONSGML Event Calendar//EN
BEGIN:VEVENT
UID:90795f89-1103-4663-9ed2-f360263b8379
DTSTART;TZID=UTC:20230317T140000
SEQUENCE:0
TRANSP:OPAQUE
DTEND;TZID=UTC:20230317T150000
LOCATION:https://www.bja.ojp.gov/events/valor-thrive-how-can-i-improve-rein
 vigorating-your-physical-health
SUMMARY:VALOR Thrive: How Can I Improve? Reinvigorating Your Physical Healt
 h
CLASS:PUBLIC
DESCRIPTION:Learn more about this event: https://www.bja.ojp.gov/events/val
 or-thrive-how-can-i-improve-reinvigorating-your-physical-health
DTSTAMP:20260422T224328Z
END:VEVENT
END:VCALENDAR