BEGIN:VCALENDAR
VERSION:2.0
PRODID:-//Bureau of Justice Assistance//NONSGML Event Calendar//EN
BEGIN:VEVENT
UID:c7190b27-6d9f-4485-86d6-649376ae637d
DTSTART;VALUE=DATE:20230509
SEQUENCE:0
TRANSP:OPAQUE
DTEND;VALUE=DATE:20230510
LOCATION:https://www.bja.ojp.gov/events/valor-mid-level-leadership-workshop
 -0
SUMMARY:VALOR Mid-Level Leadership Workshop
CLASS:PUBLIC
DESCRIPTION:Learn more about this event: https://www.bja.ojp.gov/events/val
 or-mid-level-leadership-workshop-0
X-MICROSOFT-CDO-ALLDAYEVENT:TRUE
DTSTAMP:20260423T004302Z
END:VEVENT
END:VCALENDAR