BEGIN:VCALENDAR
VERSION:2.0
PRODID:-//Bureau of Justice Assistance//NONSGML Event Calendar//EN
BEGIN:VEVENT
UID:bbedd73b-73c7-4a56-8d10-65e1480e8675
DTSTART;TZID=UTC:20230329T170000
SEQUENCE:0
TRANSP:OPAQUE
DTEND;TZID=UTC:20230329T180000
LOCATION:https://www.bja.ojp.gov/events/fy-2023-emmett-till-solicitation-we
 binar
SUMMARY:FY 2023 Emmett Till Solicitation Webinar
CLASS:PUBLIC
DESCRIPTION:Learn more about this event: https://www.bja.ojp.gov/events/fy-
 2023-emmett-till-solicitation-webinar
DTSTAMP:20260420T092551Z
END:VEVENT
END:VCALENDAR