BEGIN:VCALENDAR
VERSION:2.0
PRODID:-//Bureau of Justice Assistance//NONSGML Event Calendar//EN
BEGIN:VEVENT
UID:32d0305b-a78e-4ea3-8084-1fb269b4590c
DTSTART;TZID=UTC:20230405T180000
SEQUENCE:0
TRANSP:OPAQUE
DTEND;TZID=UTC:20230405T193000
LOCATION:https://www.bja.ojp.gov/events/pell-reinstatement-2023-preparing-i
 mplementation
SUMMARY:Pell Reinstatement 2023: Preparing for Implementation
CLASS:PUBLIC
DESCRIPTION:Learn more about this event: https://www.bja.ojp.gov/events/pel
 l-reinstatement-2023-preparing-implementation
DTSTAMP:20260422T194733Z
END:VEVENT
END:VCALENDAR