BEGIN:VCALENDAR
VERSION:2.0
PRODID:-//Bureau of Justice Assistance//NONSGML Event Calendar//EN
BEGIN:VEVENT
UID:7fabd7cc-6d92-4a03-b2e8-dd6826a91a62
DTSTART;TZID=UTC:20230419T180000
SEQUENCE:0
TRANSP:OPAQUE
DTEND;TZID=UTC:20230419T193000
LOCATION:https://www.bja.ojp.gov/events/preparing-justice-impacted-people-i
 nfrastructure-jobs
SUMMARY:Preparing Justice-Impacted People for Infrastructure Jobs
CLASS:PUBLIC
DESCRIPTION:Learn more about this event: https://www.bja.ojp.gov/events/pre
 paring-justice-impacted-people-infrastructure-jobs
DTSTAMP:20260422T194612Z
END:VEVENT
END:VCALENDAR