BEGIN:VCALENDAR
VERSION:2.0
PRODID:-//Bureau of Justice Assistance//NONSGML Event Calendar//EN
BEGIN:VEVENT
UID:c9d3779a-f448-4b26-b68a-78a32653ebc7
DTSTART;TZID=UTC:20230328T190000
SEQUENCE:0
TRANSP:OPAQUE
DTEND;TZID=UTC:20230328T200000
LOCATION:https://www.bja.ojp.gov/events/swift-certain-and-fair-supervision-
 program-applying-principles-behind-project-hope-fy-2023
SUMMARY:Swift\, Certain\, and Fair Supervision Program: Applying the Princi
 ples Behind Project HOPE FY 2023 Solicitation
CLASS:PUBLIC
DESCRIPTION:Learn more about this event: https://www.bja.ojp.gov/events/swi
 ft-certain-and-fair-supervision-program-applying-principles-behind-project
 -hope-fy-2023
DTSTAMP:20260420T075702Z
END:VEVENT
END:VCALENDAR