BEGIN:VCALENDAR
VERSION:2.0
PRODID:-//Bureau of Justice Assistance//NONSGML Event Calendar//EN
BEGIN:VEVENT
UID:5e6ecfe1-50f6-4dba-9d95-f160e5740302
DTSTART;TZID=UTC:20230406T170000
SEQUENCE:0
TRANSP:OPAQUE
DTEND;TZID=UTC:20230406T183000
LOCATION:https://www.bja.ojp.gov/events/stop-school-violence-program-fy-202
 3-solicitation
SUMMARY:STOP School Violence Program FY 2023 Solicitation
CLASS:PUBLIC
DESCRIPTION:Learn more about this event: https://www.bja.ojp.gov/events/sto
 p-school-violence-program-fy-2023-solicitation
DTSTAMP:20260422T224329Z
END:VEVENT
END:VCALENDAR