BEGIN:VCALENDAR
VERSION:2.0
PRODID:-//Bureau of Justice Assistance//NONSGML Event Calendar//EN
BEGIN:VEVENT
UID:6500b3a6-a0b7-461f-a358-1cc41cb66136
DTSTART;TZID=UTC:20230406T180000
SEQUENCE:0
TRANSP:OPAQUE
DTEND;TZID=UTC:20230406T190000
LOCATION:https://www.bja.ojp.gov/events/justgrants-virtual-qa-award-accepta
 nce-72
SUMMARY:JustGrants Virtual Q&A: Award Acceptance
CLASS:PUBLIC
DESCRIPTION:Learn more about this event: https://www.bja.ojp.gov/events/jus
 tgrants-virtual-qa-award-acceptance-72
DTSTAMP:20260420T070123Z
END:VEVENT
END:VCALENDAR