BEGIN:VCALENDAR
VERSION:2.0
PRODID:-//Bureau of Justice Assistance//NONSGML Event Calendar//EN
BEGIN:VEVENT
UID:9a9fcc63-0252-4dab-8eeb-ed1693f8828c
DTSTART;VALUE=DATE:20230430
SEQUENCE:0
TRANSP:OPAQUE
DTEND;VALUE=DATE:20230505
LOCATION:https://www.bja.ojp.gov/events/american-society-crime-laboratory-d
 irectors-annual-symposium
SUMMARY:American Society of Crime Laboratory Directors Annual Symposium
CLASS:PUBLIC
DESCRIPTION:Learn more about this event: https://www.bja.ojp.gov/events/ame
 rican-society-crime-laboratory-directors-annual-symposium
X-MICROSOFT-CDO-ALLDAYEVENT:TRUE
DTSTAMP:20260422T225917Z
END:VEVENT
END:VCALENDAR