BEGIN:VCALENDAR
VERSION:2.0
PRODID:-//Bureau of Justice Assistance//NONSGML Event Calendar//EN
BEGIN:VEVENT
UID:b4347210-fac2-414c-8913-ba08f22c6589
DTSTART;VALUE=DATE:20230724
SEQUENCE:0
TRANSP:OPAQUE
DTEND;VALUE=DATE:20230727
LOCATION:https://www.bja.ojp.gov/events/2023-symposium-justice-information-
 technology-policy-research-and-practice
SUMMARY:2023 Symposium on Justice Information Technology\, Policy\, Researc
 h\, and Practice
CLASS:PUBLIC
DESCRIPTION:Learn more about this event: https://www.bja.ojp.gov/events/202
 3-symposium-justice-information-technology-policy-research-and-practice
X-MICROSOFT-CDO-ALLDAYEVENT:TRUE
DTSTAMP:20260422T210707Z
END:VEVENT
END:VCALENDAR