BEGIN:VCALENDAR
VERSION:2.0
PRODID:-//Bureau of Justice Assistance//NONSGML Event Calendar//EN
BEGIN:VEVENT
UID:9f27ab2c-95f6-4057-8ffe-1dd07b948651
DTSTART;VALUE=DATE:20230810
SEQUENCE:0
TRANSP:OPAQUE
DTEND;VALUE=DATE:20230814
LOCATION:https://www.bja.ojp.gov/events/american-correctional-associations-
 congress-corrections
SUMMARY:American Correctional Association's Congress of Corrections
CLASS:PUBLIC
DESCRIPTION:Learn more about this event: https://www.bja.ojp.gov/events/ame
 rican-correctional-associations-congress-corrections
X-MICROSOFT-CDO-ALLDAYEVENT:TRUE
DTSTAMP:20260425T170518Z
END:VEVENT
END:VCALENDAR