BEGIN:VCALENDAR
VERSION:2.0
PRODID:-//Bureau of Justice Assistance//NONSGML Event Calendar//EN
BEGIN:VEVENT
UID:944f68b9-4cf3-4e75-a13c-71c71688f5d6
DTSTART;TZID=UTC:20230412T180000
SEQUENCE:0
TRANSP:OPAQUE
DTEND;TZID=UTC:20230412T190000
LOCATION:https://www.bja.ojp.gov/events/learn-more-about-national-public-sa
 fety-partnership
SUMMARY:Learn More About the National Public Safety Partnership
CLASS:PUBLIC
DESCRIPTION:Learn more about this event: https://www.bja.ojp.gov/events/lea
 rn-more-about-national-public-safety-partnership
DTSTAMP:20260423T003452Z
END:VEVENT
END:VCALENDAR