BEGIN:VCALENDAR
VERSION:2.0
PRODID:-//Bureau of Justice Assistance//NONSGML Event Calendar//EN
BEGIN:VEVENT
UID:5670df11-f2c4-4d4a-89aa-d8d0275df621
DTSTART;TZID=UTC:20230427T180000
SEQUENCE:0
TRANSP:OPAQUE
DTEND;TZID=UTC:20230427T193000
LOCATION:https://www.bja.ojp.gov/events/program-based-strategies-opioid-div
 ersion-fire-and-emergencies-services
SUMMARY:Program-Based Strategies for Opioid Diversion in the Fire and Emerg
 encies Services
CLASS:PUBLIC
DESCRIPTION:Learn more about this event: https://www.bja.ojp.gov/events/pro
 gram-based-strategies-opioid-diversion-fire-and-emergencies-services
DTSTAMP:20260420T111304Z
END:VEVENT
END:VCALENDAR