BEGIN:VCALENDAR
VERSION:2.0
PRODID:-//Bureau of Justice Assistance//NONSGML Event Calendar//EN
BEGIN:VEVENT
UID:3607e408-b3b5-4d1b-bc61-62d12f2674d9
DTSTART;TZID=UTC:20230608T180000
SEQUENCE:0
TRANSP:OPAQUE
DTEND;TZID=UTC:20230608T190000
LOCATION:https://www.bja.ojp.gov/events/justgrants-virtual-qa-award-accepta
 nce-81
SUMMARY:JustGrants Virtual Q&A: Award Acceptance
CLASS:PUBLIC
DESCRIPTION:Learn more about this event: https://www.bja.ojp.gov/events/jus
 tgrants-virtual-qa-award-acceptance-81
DTSTAMP:20260420T052653Z
END:VEVENT
END:VCALENDAR