BEGIN:VCALENDAR
VERSION:2.0
PRODID:-//Bureau of Justice Assistance//NONSGML Event Calendar//EN
BEGIN:VEVENT
UID:6a008bf8-c348-4070-a00b-d0184018c921
DTSTART;TZID=UTC:20230620T180000
SEQUENCE:0
TRANSP:OPAQUE
DTEND;TZID=UTC:20230620T190000
LOCATION:https://www.bja.ojp.gov/events/justgrants-virtual-qa-entity-manage
 ment-87
SUMMARY:JustGrants Virtual Q&A: Entity Management
CLASS:PUBLIC
DESCRIPTION:Learn more about this event: https://www.bja.ojp.gov/events/jus
 tgrants-virtual-qa-entity-management-87
DTSTAMP:20260420T052605Z
END:VEVENT
END:VCALENDAR