BEGIN:VCALENDAR
VERSION:2.0
PRODID:-//Bureau of Justice Assistance//NONSGML Event Calendar//EN
BEGIN:VEVENT
UID:542d22cb-8446-4385-bc94-65f8670e658b
DTSTART;TZID=UTC:20230613T180000
SEQUENCE:0
TRANSP:OPAQUE
DTEND;TZID=UTC:20230613T190000
LOCATION:https://www.bja.ojp.gov/events/justgrants-virtual-qa-entity-manage
 ment-86
SUMMARY:JustGrants Virtual Q&A: Entity Management
CLASS:PUBLIC
DESCRIPTION:Learn more about this event: https://www.bja.ojp.gov/events/jus
 tgrants-virtual-qa-entity-management-86
DTSTAMP:20260420T052424Z
END:VEVENT
END:VCALENDAR