BEGIN:VCALENDAR
VERSION:2.0
PRODID:-//Bureau of Justice Assistance//NONSGML Event Calendar//EN
BEGIN:VEVENT
UID:290b28d2-1edf-4cc4-991d-78e0a56c606b
DTSTART;TZID=UTC:20230601T180000
SEQUENCE:0
TRANSP:OPAQUE
DTEND;TZID=UTC:20230601T190000
LOCATION:https://www.bja.ojp.gov/events/justgrants-virtual-qa-award-accepta
 nce-80
SUMMARY:JustGrants Virtual Q&A: Award Acceptance
CLASS:PUBLIC
DESCRIPTION:Learn more about this event: https://www.bja.ojp.gov/events/jus
 tgrants-virtual-qa-award-acceptance-80
DTSTAMP:20260420T070127Z
END:VEVENT
END:VCALENDAR