BEGIN:VCALENDAR
VERSION:2.0
PRODID:-//Bureau of Justice Assistance//NONSGML Event Calendar//EN
BEGIN:VEVENT
UID:63a50870-39de-4f6d-994b-078ff8e2a67d
DTSTART;TZID=UTC:20230606T180000
SEQUENCE:0
TRANSP:OPAQUE
DTEND;TZID=UTC:20230606T190000
LOCATION:https://www.bja.ojp.gov/events/justgrants-virtual-qa-entity-manage
 ment-85
SUMMARY:JustGrants Virtual Q&A: Entity Management 
CLASS:PUBLIC
DESCRIPTION:Learn more about this event: https://www.bja.ojp.gov/events/jus
 tgrants-virtual-qa-entity-management-85
DTSTAMP:20260420T052654Z
END:VEVENT
END:VCALENDAR