BEGIN:VCALENDAR
VERSION:2.0
PRODID:-//Bureau of Justice Assistance//NONSGML Event Calendar//EN
BEGIN:VEVENT
UID:13af5487-5bff-4483-b073-eb2ea9bc26bf
DTSTART;VALUE=DATE:20230626
SEQUENCE:0
TRANSP:OPAQUE
DTEND;VALUE=DATE:20230630
LOCATION:https://www.bja.ojp.gov/events/national-sheriffs-association-annua
 l-conference-2
SUMMARY:National Sheriffs' Association Annual Conference
CLASS:PUBLIC
DESCRIPTION:Learn more about this event: https://www.bja.ojp.gov/events/nat
 ional-sheriffs-association-annual-conference-2
X-MICROSOFT-CDO-ALLDAYEVENT:TRUE
DTSTAMP:20260422T214909Z
END:VEVENT
END:VCALENDAR