BEGIN:VCALENDAR
VERSION:2.0
PRODID:-//Bureau of Justice Assistance//NONSGML Event Calendar//EN
BEGIN:VEVENT
UID:36d90107-6136-49a7-87ce-b87b2605c99c
DTSTART;VALUE=DATE:20230720
SEQUENCE:0
TRANSP:OPAQUE
DTEND;VALUE=DATE:20230721
LOCATION:https://www.bja.ojp.gov/events/valor-train-trainer-workshop-7
SUMMARY:VALOR Train-the-Trainer Workshop
CLASS:PUBLIC
DESCRIPTION:Learn more about this event: https://www.bja.ojp.gov/events/val
 or-train-trainer-workshop-7
X-MICROSOFT-CDO-ALLDAYEVENT:TRUE
DTSTAMP:20260422T224431Z
END:VEVENT
END:VCALENDAR