BEGIN:VCALENDAR
VERSION:2.0
PRODID:-//Bureau of Justice Assistance//NONSGML Event Calendar//EN
BEGIN:VEVENT
UID:79ebeb4a-12fb-4eb8-9b51-c0a1bad86c92
DTSTART;VALUE=DATE:20230608
SEQUENCE:0
TRANSP:OPAQUE
DTEND;VALUE=DATE:20230609
LOCATION:https://www.bja.ojp.gov/events/valor-train-trainer-workshop-6
SUMMARY:VALOR Train-the-Trainer Workshop
CLASS:PUBLIC
DESCRIPTION:Learn more about this event: https://www.bja.ojp.gov/events/val
 or-train-trainer-workshop-6
X-MICROSOFT-CDO-ALLDAYEVENT:TRUE
DTSTAMP:20260422T224327Z
END:VEVENT
END:VCALENDAR